BEGIN:VCALENDAR
VERSION:2.0
PRODID:-//Eventin//Event Calendar//EN
CALSCALE:GREGORIAN
METHOD:PUBLISH
BEGIN:VEVENT
UID:ea440115fbf701a3b5675b5840357a4a@zg.grunliberale.ch
SUMMARY:Stammtisch organisiert von der GLP Stadt Zug zum Thema Wohnbauförd
 erung
DESCRIPTION:Der Stammtisch im Mai findet nicht wie gewohnt am 7. sondern di
 esmal bereits am Dienstag\, 5. Mai statt. Dafür ist das Programm umso inte
 ressanter. \nDie Verfügbarkeit von erschwinglichem Wohnraum steht im Zent
 rum der Aufmerksamkeit von Politik und Öffentlichkeit im Kanton Zug. Am 8.
  März hat die Gemeinde Cham ja gesagt zu Mietzinsbeiträgen. Welche Vortei
 le hat eine gezielte Subjektförderungals wohnungspolitisches Instrument ge
 genüber den heutigen Ansätzen in Zug Referent:Prof. Dr. Marco Salvi\, Ma
 naging Economist bei Swiss EconomicsDr. Marco Salvi ist spezialisiert auf w
 irtschaftspolitische Analysen in den Bereichen Immobilienökonomie\, Gesell
 schafts- und Wohnpolitik und Verfasser einer volkswirtschaftlichen Studie z
 ur Subjektförderung in der Wohnpolitik.\nAnschliessend findet ein Apéro 
 – organisiert von den Zuger Bäuerinnen – statt.\nWir bitten um eine An
 meldung (Anmeldeschluss 30.04.2026) 
LOCATION:Panorama 24\, Gubelstrasse 24\, 6300 Zug (Parktower)
DTSTAMP:20260419T181510Z
DTSTART:20260505T170000Z
DTEND:20260505T193000Z
END:VEVENT
END:VCALENDAR
