BEGIN:VCALENDAR
VERSION:2.0
PRODID:-//Eventin//Event Calendar//EN
CALSCALE:GREGORIAN
METHOD:PUBLISH
BEGIN:VEVENT
UID:7df54c6a8e8565d5f50069b0087b51a9@zg.grunliberale.ch
SUMMARY:Nominationsversammlung der GLP Kanton und Stadt Zug im Burgbachsaal
DESCRIPTION:Infos und Zeitplan folgen
LOCATION:Burbachsaal\, Zug
DTSTAMP:20260419T181520Z
DTSTART:20260508T220000Z
DTEND:20260509T215500Z
END:VEVENT
END:VCALENDAR
