BEGIN:VCALENDAR
VERSION:2.0
PRODID:-//Eventin//Event Calendar//EN
CALSCALE:GREGORIAN
METHOD:PUBLISH
BEGIN:VEVENT
UID:7e061e6a7e7f5373b5fa23248ed74323@zg.grunliberale.ch
SUMMARY:Stammtisch zum Thema Mythen der Schweizer Geschichte
DESCRIPTION:Stammtisch zum Thema Mythen der Schweizer Geschichte - Fiktion\
 , Wahrheit und grünliberale Deutung - mit Peter Szabo aus Cham.
LOCATION:Noch offen
DTSTAMP:20260420T003101Z
DTSTART:20260606T220000Z
DTEND:20260607T215500Z
END:VEVENT
END:VCALENDAR
