BEGIN:VCALENDAR
VERSION:2.0
PRODID:-//Eventin//Event Calendar//EN
CALSCALE:GREGORIAN
METHOD:PUBLISH
BEGIN:VEVENT
UID:bf4350799afa93da4bb983f4d768cfc6@zg.grunliberale.ch
SUMMARY:GLP Cham Parteiversammlung
DESCRIPTION:Offener Austausch sowie Besprechung der Positionen GLP Cham fü
 r die kommende Gemeindeversammlung. Gäste sind gerne willkommen\nElaine & 
 Roger
LOCATION:Lorzensaal Cham - Lorzestübli
DTSTAMP:20260420T021148Z
DTSTART:20260601T060000Z
DTEND:20260601T190000Z
END:VEVENT
END:VCALENDAR
