BEGIN:VCALENDAR
VERSION:2.0
PRODID:-//Eventin//Event Calendar//EN
CALSCALE:GREGORIAN
METHOD:PUBLISH
BEGIN:VEVENT
UID:b7c6a23d17e71348025ced0a002b562f@zg.grunliberale.ch
SUMMARY:GLP Cham Parteiversammlung
DESCRIPTION:Offener Austausch sowie Besprechung der Positionen GLP Cham fü
 r die kommende Gemeindeversammlung. Gäste sind gerne willkommen\nElaine & 
 Roger
LOCATION:Lorzensaal Cham - Lorzestübli
DTSTAMP:20260419T181550Z
DTSTART:20261130T070000Z
DTEND:20261130T200000Z
END:VEVENT
END:VCALENDAR
