BEGIN:VCALENDAR
VERSION:2.0
PRODID:-//Eventin//Event Calendar//EN
CALSCALE:GREGORIAN
METHOD:PUBLISH
BEGIN:VEVENT
UID:e89dbc2deed5e95e91bddf84525e8784@zg.grunliberale.ch
SUMMARY:Gemeindeversammlung Cham
DESCRIPTION:Wir freuen uns auf möglichst viele Teilnehmerinnen und Teilneh
 mer welche für die Position der GLP Cham einstehen\nElaine & Roger\nCham -
  Gemeindeversammlungen
LOCATION:Lorzensaal\, Cham
DTSTAMP:20260420T003117Z
DTSTART:20260615T170000Z
DTEND:20260615T200000Z
END:VEVENT
END:VCALENDAR
