BEGIN:VCALENDAR
VERSION:2.0
PRODID:-//Eventin//Event Calendar//EN
CALSCALE:GREGORIAN
METHOD:PUBLISH
BEGIN:VEVENT
UID:515975cee152ef7e6175514fad8900ca@zg.grunliberale.ch
SUMMARY:Gemeindeversammlung Cham
DESCRIPTION:Wir freuen uns auf möglichst viele Teilnehmerinnen und Teilneh
 mer welche für die Position der GLP Cham einstehen\nElaine & Roger\nCham -
  Gemeindeversammlungen
LOCATION:Lorzensaal\, Cham
DTSTAMP:20260419T181530Z
DTSTART:20261214T180000Z
DTEND:20261214T210000Z
END:VEVENT
END:VCALENDAR
