BEGIN:VCALENDAR
VERSION:2.0
PRODID:-//Eventin//Event Calendar//EN
CALSCALE:GREGORIAN
METHOD:PUBLISH
BEGIN:VEVENT
UID:91627b8e7dba8a9dc90187759c5e759a@zg.grunliberale.ch
SUMMARY:GLP Cham Märtbeizli Dormärt
DESCRIPTION:Auch dieses Jahr präsentiert sich die GLP Cham am Dorfmärt in
  Cham. \nWir freuen uns auf regen Besuch und viele spannende Kontakte und 
 Gespräche\nElaine & Roger
LOCATION:Dorfplatz / Lorzensaal Cham
DTSTAMP:20260419T193628Z
DTSTART:20260829T060000Z
DTEND:20260829T100000Z
END:VEVENT
END:VCALENDAR
