BEGIN:VCALENDAR
VERSION:2.0
PRODID:-//Eventin//Event Calendar//EN
CALSCALE:GREGORIAN
METHOD:PUBLISH
BEGIN:VEVENT
UID:e69be619e7ec6b9ff6a51c49adff59ee@zg.grunliberale.ch
SUMMARY:GLP Cham am Villettefäscht 2026
DESCRIPTION:Auch an dieser Ausgabe des Villettefäschtes in Cham ist die GL
 P dabei. Wir werden zusammen mit der Mitte\, SP\, ALG sowie FDP werden wir 
 Sie mit Spezialitäten verwöhnen. Kommen Sie vorbei.\nElaine & Roger\nVill
 ette Fäscht | Chamazonas 2026
LOCATION:Hirsgarten Cham
DTSTAMP:20260419T181540Z
DTSTART:20260829T100000Z
DTEND:20260830T010000Z
END:VEVENT
END:VCALENDAR
