BEGIN:VCALENDAR
VERSION:2.0
PRODID:-//Eventin//Event Calendar//EN
CALSCALE:GREGORIAN
METHOD:PUBLISH
BEGIN:VEVENT
UID:81764106a50f4af74c186120dbca7e55@zg.grunliberale.ch
SUMMARY:GLP Cham am Villettefäscht 2026
DESCRIPTION:Auch an dieser Ausgabe des Villettefäschtes in Cham ist die GL
 P dabei. Wir werden zusammen mit der Mitte\, SP\, ALG sowie FDP werden wir 
 Sie mit Spezialitäten verwöhnen. Kommen Sie vorbei.\nElaine & Roger\nVill
 ette Fäscht | Chamazonas 2026
LOCATION:Hirsgarten Cham
DTSTAMP:20260420T010732Z
DTSTART:20260830T083000Z
DTEND:20260830T150000Z
END:VEVENT
END:VCALENDAR
