BEGIN:VCALENDAR
VERSION:2.0
PRODID:-//Eventin//Event Calendar//EN
CALSCALE:GREGORIAN
METHOD:PUBLISH
BEGIN:VEVENT
UID:dbca4b2ae4b96385907fdf548b4780ab@zg.grunliberale.ch
SUMMARY:Stammtisch zum Thema Kreislaufwirtschaft mit V-Zug
DESCRIPTION:
LOCATION:V-Zug
DTSTAMP:20260419T165453Z
DTSTART:20260706T220000Z
DTEND:20260707T215500Z
END:VEVENT
END:VCALENDAR
